


BEGIN:VCALENDAR
VERSION:2.0
PRODID:-//Peoria PlayHouse - ECPv6.10.1//NONSGML v1.0//EN
CALSCALE:GREGORIAN
METHOD:PUBLISH
X-ORIGINAL-URL:https://playhouse.csmdemo.com
X-WR-CALDESC:Events for Peoria PlayHouse
REFRESH-INTERVAL;VALUE=DURATION:PT1H
X-Robots-Tag:noindex
X-PUBLISHED-TTL:PT1H
BEGIN:VTIMEZONE
TZID:America/Chicago
BEGIN:DAYLIGHT
TZOFFSETFROM:-0600
TZOFFSETTO:-0500
TZNAME:CDT
DTSTART:20280312T080000
END:DAYLIGHT
BEGIN:STANDARD
TZOFFSETFROM:-0500
TZOFFSETTO:-0600
TZNAME:CST
DTSTART:20281105T070000
END:STANDARD
END:VTIMEZONE
BEGIN:VEVENT
DTSTART;TZID=America/Chicago:20280204T100000
DTEND;TZID=America/Chicago:20280204T120000
DTSTAMP:20260420T013934
CREATED:20250206T175930Z
LAST-MODIFIED:20250206T175930Z
UID:10000891-1833271200-1833278400@playhouse.csmdemo.com
SUMMARY:Open Art Studio
DESCRIPTION:Come create art with us! \nJoin us each week to explore how illustrators bring imagination to life through various artistic processes. Each month features a different theme. \nThis program has been made possible by a grant from the Community Foundation of Central Illinois and is partially supported by a grant from the Illinois Arts Council Agency.
URL:https://playhouse.csmdemo.com/event/open-art-studio/2028-02-04/
CATEGORIES:Drop in Program,Fun For All Ages
ATTACH;FMTTYPE=image/png:https://playhouse.csmdemo.com/wp-content/uploads/Open-Art-Studio-Square-Design-2-768x768-1.png
END:VEVENT
BEGIN:VEVENT
DTSTART;TZID=America/Chicago:20280208T093000
DTEND;TZID=America/Chicago:20280208T113000
DTSTAMP:20260420T013934
CREATED:20250206T142607Z
LAST-MODIFIED:20250206T142607Z
UID:10000220-1833615000-1833622200@playhouse.csmdemo.com
SUMMARY:Members-Only Open Art Studio
DESCRIPTION:Come create art with us! \nJoin us each week to explore how illustrators bring imagination to life through various artistic processes. Each month features a different theme. \nThis program has been made possible by a grant from the Community Foundation of Central Illinois and is partially supported by a grant from the Illinois Arts Council Agency.
URL:https://playhouse.csmdemo.com/event/members-only-open-art-studio/2028-02-08/
CATEGORIES:Drop in Program,Fun For All Ages,Member's Only
ATTACH;FMTTYPE=image/png:https://playhouse.csmdemo.com/wp-content/uploads/Members-Only-Open-Art-Studio-Square-Design-768x765-1.png
END:VEVENT
BEGIN:VEVENT
DTSTART;TZID=America/Chicago:20280210T163000
DTEND;TZID=America/Chicago:20280210T180000
DTSTAMP:20260420T013934
CREATED:20250206T180527Z
LAST-MODIFIED:20250206T180527Z
UID:10001077-1833813000-1833818400@playhouse.csmdemo.com
SUMMARY:Sensory Inclusion Night
DESCRIPTION:Join us for a fun\, sensory-friendly night with dimmer lights\, less noise\, and sensory toys. Open to children of all needs and abilities\, and their families. Sensory Packs with noise-canceling headphones\, fidget toys\, sunglasses\, and other materials are always available at the front desk. \nNo pre-registration is required. \nCost: Regular admission rates at $10 per person or $3 with WIC/Link
URL:https://playhouse.csmdemo.com/event/sensory-inclusion-night/2028-02-10/
CATEGORIES:Accessibility,Community Collaboration,Fun For All Ages
ATTACH;FMTTYPE=image/png:https://playhouse.csmdemo.com/wp-content/uploads/Sensory-Inclusion-Night-Graphic.png
END:VEVENT
BEGIN:VEVENT
DTSTART;TZID=America/Chicago:20280211T100000
DTEND;TZID=America/Chicago:20280211T120000
DTSTAMP:20260420T013934
CREATED:20250206T175930Z
LAST-MODIFIED:20250206T175930Z
UID:10000892-1833876000-1833883200@playhouse.csmdemo.com
SUMMARY:Open Art Studio
DESCRIPTION:Come create art with us! \nJoin us each week to explore how illustrators bring imagination to life through various artistic processes. Each month features a different theme. \nThis program has been made possible by a grant from the Community Foundation of Central Illinois and is partially supported by a grant from the Illinois Arts Council Agency.
URL:https://playhouse.csmdemo.com/event/open-art-studio/2028-02-11/
CATEGORIES:Drop in Program,Fun For All Ages
ATTACH;FMTTYPE=image/png:https://playhouse.csmdemo.com/wp-content/uploads/Open-Art-Studio-Square-Design-2-768x768-1.png
END:VEVENT
BEGIN:VEVENT
DTSTART;TZID=America/Chicago:20280215T093000
DTEND;TZID=America/Chicago:20280215T113000
DTSTAMP:20260420T013934
CREATED:20250206T142607Z
LAST-MODIFIED:20250206T142607Z
UID:10000221-1834219800-1834227000@playhouse.csmdemo.com
SUMMARY:Members-Only Open Art Studio
DESCRIPTION:Come create art with us! \nJoin us each week to explore how illustrators bring imagination to life through various artistic processes. Each month features a different theme. \nThis program has been made possible by a grant from the Community Foundation of Central Illinois and is partially supported by a grant from the Illinois Arts Council Agency.
URL:https://playhouse.csmdemo.com/event/members-only-open-art-studio/2028-02-15/
CATEGORIES:Drop in Program,Fun For All Ages,Member's Only
ATTACH;FMTTYPE=image/png:https://playhouse.csmdemo.com/wp-content/uploads/Members-Only-Open-Art-Studio-Square-Design-768x765-1.png
END:VEVENT
BEGIN:VEVENT
DTSTART;TZID=America/Chicago:20280218T100000
DTEND;TZID=America/Chicago:20280218T120000
DTSTAMP:20260420T013934
CREATED:20250206T175930Z
LAST-MODIFIED:20250206T175930Z
UID:10000893-1834480800-1834488000@playhouse.csmdemo.com
SUMMARY:Open Art Studio
DESCRIPTION:Come create art with us! \nJoin us each week to explore how illustrators bring imagination to life through various artistic processes. Each month features a different theme. \nThis program has been made possible by a grant from the Community Foundation of Central Illinois and is partially supported by a grant from the Illinois Arts Council Agency.
URL:https://playhouse.csmdemo.com/event/open-art-studio/2028-02-18/
CATEGORIES:Drop in Program,Fun For All Ages
ATTACH;FMTTYPE=image/png:https://playhouse.csmdemo.com/wp-content/uploads/Open-Art-Studio-Square-Design-2-768x768-1.png
END:VEVENT
BEGIN:VEVENT
DTSTART;TZID=America/Chicago:20280222T093000
DTEND;TZID=America/Chicago:20280222T113000
DTSTAMP:20260420T013934
CREATED:20250206T142607Z
LAST-MODIFIED:20250206T142607Z
UID:10000222-1834824600-1834831800@playhouse.csmdemo.com
SUMMARY:Members-Only Open Art Studio
DESCRIPTION:Come create art with us! \nJoin us each week to explore how illustrators bring imagination to life through various artistic processes. Each month features a different theme. \nThis program has been made possible by a grant from the Community Foundation of Central Illinois and is partially supported by a grant from the Illinois Arts Council Agency.
URL:https://playhouse.csmdemo.com/event/members-only-open-art-studio/2028-02-22/
CATEGORIES:Drop in Program,Fun For All Ages,Member's Only
ATTACH;FMTTYPE=image/png:https://playhouse.csmdemo.com/wp-content/uploads/Members-Only-Open-Art-Studio-Square-Design-768x765-1.png
END:VEVENT
BEGIN:VEVENT
DTSTART;TZID=America/Chicago:20280224T163000
DTEND;TZID=America/Chicago:20280224T180000
DTSTAMP:20260420T013934
CREATED:20250206T180527Z
LAST-MODIFIED:20250206T180527Z
UID:10001078-1835022600-1835028000@playhouse.csmdemo.com
SUMMARY:Sensory Inclusion Night
DESCRIPTION:Join us for a fun\, sensory-friendly night with dimmer lights\, less noise\, and sensory toys. Open to children of all needs and abilities\, and their families. Sensory Packs with noise-canceling headphones\, fidget toys\, sunglasses\, and other materials are always available at the front desk. \nNo pre-registration is required. \nCost: Regular admission rates at $10 per person or $3 with WIC/Link
URL:https://playhouse.csmdemo.com/event/sensory-inclusion-night/2028-02-24/
CATEGORIES:Accessibility,Community Collaboration,Fun For All Ages
ATTACH;FMTTYPE=image/png:https://playhouse.csmdemo.com/wp-content/uploads/Sensory-Inclusion-Night-Graphic.png
END:VEVENT
BEGIN:VEVENT
DTSTART;TZID=America/Chicago:20280225T100000
DTEND;TZID=America/Chicago:20280225T120000
DTSTAMP:20260420T013934
CREATED:20250206T175930Z
LAST-MODIFIED:20250206T175930Z
UID:10000894-1835085600-1835092800@playhouse.csmdemo.com
SUMMARY:Open Art Studio
DESCRIPTION:Come create art with us! \nJoin us each week to explore how illustrators bring imagination to life through various artistic processes. Each month features a different theme. \nThis program has been made possible by a grant from the Community Foundation of Central Illinois and is partially supported by a grant from the Illinois Arts Council Agency.
URL:https://playhouse.csmdemo.com/event/open-art-studio/2028-02-25/
CATEGORIES:Drop in Program,Fun For All Ages
ATTACH;FMTTYPE=image/png:https://playhouse.csmdemo.com/wp-content/uploads/Open-Art-Studio-Square-Design-2-768x768-1.png
END:VEVENT
BEGIN:VEVENT
DTSTART;TZID=America/Chicago:20280229T093000
DTEND;TZID=America/Chicago:20280229T113000
DTSTAMP:20260420T013934
CREATED:20250206T142607Z
LAST-MODIFIED:20250206T142607Z
UID:10000223-1835429400-1835436600@playhouse.csmdemo.com
SUMMARY:Members-Only Open Art Studio
DESCRIPTION:Come create art with us! \nJoin us each week to explore how illustrators bring imagination to life through various artistic processes. Each month features a different theme. \nThis program has been made possible by a grant from the Community Foundation of Central Illinois and is partially supported by a grant from the Illinois Arts Council Agency.
URL:https://playhouse.csmdemo.com/event/members-only-open-art-studio/2028-02-29/
CATEGORIES:Drop in Program,Fun For All Ages,Member's Only
ATTACH;FMTTYPE=image/png:https://playhouse.csmdemo.com/wp-content/uploads/Members-Only-Open-Art-Studio-Square-Design-768x765-1.png
END:VEVENT
BEGIN:VEVENT
DTSTART;TZID=America/Chicago:20280303T100000
DTEND;TZID=America/Chicago:20280303T120000
DTSTAMP:20260420T013934
CREATED:20250206T175930Z
LAST-MODIFIED:20250206T175930Z
UID:10000895-1835690400-1835697600@playhouse.csmdemo.com
SUMMARY:Open Art Studio
DESCRIPTION:Come create art with us! \nJoin us each week to explore how illustrators bring imagination to life through various artistic processes. Each month features a different theme. \nThis program has been made possible by a grant from the Community Foundation of Central Illinois and is partially supported by a grant from the Illinois Arts Council Agency.
URL:https://playhouse.csmdemo.com/event/open-art-studio/2028-03-03/
CATEGORIES:Drop in Program,Fun For All Ages
ATTACH;FMTTYPE=image/png:https://playhouse.csmdemo.com/wp-content/uploads/Open-Art-Studio-Square-Design-2-768x768-1.png
END:VEVENT
BEGIN:VEVENT
DTSTART;TZID=America/Chicago:20280307T093000
DTEND;TZID=America/Chicago:20280307T113000
DTSTAMP:20260420T013934
CREATED:20250206T142607Z
LAST-MODIFIED:20250206T142607Z
UID:10000224-1836034200-1836041400@playhouse.csmdemo.com
SUMMARY:Members-Only Open Art Studio
DESCRIPTION:Come create art with us! \nJoin us each week to explore how illustrators bring imagination to life through various artistic processes. Each month features a different theme. \nThis program has been made possible by a grant from the Community Foundation of Central Illinois and is partially supported by a grant from the Illinois Arts Council Agency.
URL:https://playhouse.csmdemo.com/event/members-only-open-art-studio/2028-03-07/
CATEGORIES:Drop in Program,Fun For All Ages,Member's Only
ATTACH;FMTTYPE=image/png:https://playhouse.csmdemo.com/wp-content/uploads/Members-Only-Open-Art-Studio-Square-Design-768x765-1.png
END:VEVENT
BEGIN:VEVENT
DTSTART;TZID=America/Chicago:20280309T163000
DTEND;TZID=America/Chicago:20280309T180000
DTSTAMP:20260420T013934
CREATED:20250206T180527Z
LAST-MODIFIED:20250206T180527Z
UID:10001079-1836232200-1836237600@playhouse.csmdemo.com
SUMMARY:Sensory Inclusion Night
DESCRIPTION:Join us for a fun\, sensory-friendly night with dimmer lights\, less noise\, and sensory toys. Open to children of all needs and abilities\, and their families. Sensory Packs with noise-canceling headphones\, fidget toys\, sunglasses\, and other materials are always available at the front desk. \nNo pre-registration is required. \nCost: Regular admission rates at $10 per person or $3 with WIC/Link
URL:https://playhouse.csmdemo.com/event/sensory-inclusion-night/2028-03-09/
CATEGORIES:Accessibility,Community Collaboration,Fun For All Ages
ATTACH;FMTTYPE=image/png:https://playhouse.csmdemo.com/wp-content/uploads/Sensory-Inclusion-Night-Graphic.png
END:VEVENT
BEGIN:VEVENT
DTSTART;TZID=America/Chicago:20280310T100000
DTEND;TZID=America/Chicago:20280310T120000
DTSTAMP:20260420T013934
CREATED:20250206T175930Z
LAST-MODIFIED:20250206T175930Z
UID:10000896-1836295200-1836302400@playhouse.csmdemo.com
SUMMARY:Open Art Studio
DESCRIPTION:Come create art with us! \nJoin us each week to explore how illustrators bring imagination to life through various artistic processes. Each month features a different theme. \nThis program has been made possible by a grant from the Community Foundation of Central Illinois and is partially supported by a grant from the Illinois Arts Council Agency.
URL:https://playhouse.csmdemo.com/event/open-art-studio/2028-03-10/
CATEGORIES:Drop in Program,Fun For All Ages
ATTACH;FMTTYPE=image/png:https://playhouse.csmdemo.com/wp-content/uploads/Open-Art-Studio-Square-Design-2-768x768-1.png
END:VEVENT
BEGIN:VEVENT
DTSTART;TZID=America/Chicago:20280314T093000
DTEND;TZID=America/Chicago:20280314T113000
DTSTAMP:20260420T013934
CREATED:20250206T142607Z
LAST-MODIFIED:20250206T142607Z
UID:10000225-1836639000-1836646200@playhouse.csmdemo.com
SUMMARY:Members-Only Open Art Studio
DESCRIPTION:Come create art with us! \nJoin us each week to explore how illustrators bring imagination to life through various artistic processes. Each month features a different theme. \nThis program has been made possible by a grant from the Community Foundation of Central Illinois and is partially supported by a grant from the Illinois Arts Council Agency.
URL:https://playhouse.csmdemo.com/event/members-only-open-art-studio/2028-03-14/
CATEGORIES:Drop in Program,Fun For All Ages,Member's Only
ATTACH;FMTTYPE=image/png:https://playhouse.csmdemo.com/wp-content/uploads/Members-Only-Open-Art-Studio-Square-Design-768x765-1.png
END:VEVENT
BEGIN:VEVENT
DTSTART;TZID=America/Chicago:20280317T100000
DTEND;TZID=America/Chicago:20280317T120000
DTSTAMP:20260420T013934
CREATED:20250206T175930Z
LAST-MODIFIED:20250206T175930Z
UID:10000897-1836900000-1836907200@playhouse.csmdemo.com
SUMMARY:Open Art Studio
DESCRIPTION:Come create art with us! \nJoin us each week to explore how illustrators bring imagination to life through various artistic processes. Each month features a different theme. \nThis program has been made possible by a grant from the Community Foundation of Central Illinois and is partially supported by a grant from the Illinois Arts Council Agency.
URL:https://playhouse.csmdemo.com/event/open-art-studio/2028-03-17/
CATEGORIES:Drop in Program,Fun For All Ages
ATTACH;FMTTYPE=image/png:https://playhouse.csmdemo.com/wp-content/uploads/Open-Art-Studio-Square-Design-2-768x768-1.png
END:VEVENT
BEGIN:VEVENT
DTSTART;TZID=America/Chicago:20280321T093000
DTEND;TZID=America/Chicago:20280321T113000
DTSTAMP:20260420T013934
CREATED:20250206T142607Z
LAST-MODIFIED:20250206T142607Z
UID:10000226-1837243800-1837251000@playhouse.csmdemo.com
SUMMARY:Members-Only Open Art Studio
DESCRIPTION:Come create art with us! \nJoin us each week to explore how illustrators bring imagination to life through various artistic processes. Each month features a different theme. \nThis program has been made possible by a grant from the Community Foundation of Central Illinois and is partially supported by a grant from the Illinois Arts Council Agency.
URL:https://playhouse.csmdemo.com/event/members-only-open-art-studio/2028-03-21/
CATEGORIES:Drop in Program,Fun For All Ages,Member's Only
ATTACH;FMTTYPE=image/png:https://playhouse.csmdemo.com/wp-content/uploads/Members-Only-Open-Art-Studio-Square-Design-768x765-1.png
END:VEVENT
BEGIN:VEVENT
DTSTART;TZID=America/Chicago:20280323T163000
DTEND;TZID=America/Chicago:20280323T180000
DTSTAMP:20260420T013934
CREATED:20250206T180527Z
LAST-MODIFIED:20250206T180527Z
UID:10001080-1837441800-1837447200@playhouse.csmdemo.com
SUMMARY:Sensory Inclusion Night
DESCRIPTION:Join us for a fun\, sensory-friendly night with dimmer lights\, less noise\, and sensory toys. Open to children of all needs and abilities\, and their families. Sensory Packs with noise-canceling headphones\, fidget toys\, sunglasses\, and other materials are always available at the front desk. \nNo pre-registration is required. \nCost: Regular admission rates at $10 per person or $3 with WIC/Link
URL:https://playhouse.csmdemo.com/event/sensory-inclusion-night/2028-03-23/
CATEGORIES:Accessibility,Community Collaboration,Fun For All Ages
ATTACH;FMTTYPE=image/png:https://playhouse.csmdemo.com/wp-content/uploads/Sensory-Inclusion-Night-Graphic.png
END:VEVENT
BEGIN:VEVENT
DTSTART;TZID=America/Chicago:20280324T100000
DTEND;TZID=America/Chicago:20280324T120000
DTSTAMP:20260420T013934
CREATED:20250206T175930Z
LAST-MODIFIED:20250206T175930Z
UID:10000898-1837504800-1837512000@playhouse.csmdemo.com
SUMMARY:Open Art Studio
DESCRIPTION:Come create art with us! \nJoin us each week to explore how illustrators bring imagination to life through various artistic processes. Each month features a different theme. \nThis program has been made possible by a grant from the Community Foundation of Central Illinois and is partially supported by a grant from the Illinois Arts Council Agency.
URL:https://playhouse.csmdemo.com/event/open-art-studio/2028-03-24/
CATEGORIES:Drop in Program,Fun For All Ages
ATTACH;FMTTYPE=image/png:https://playhouse.csmdemo.com/wp-content/uploads/Open-Art-Studio-Square-Design-2-768x768-1.png
END:VEVENT
BEGIN:VEVENT
DTSTART;TZID=America/Chicago:20280328T093000
DTEND;TZID=America/Chicago:20280328T113000
DTSTAMP:20260420T013934
CREATED:20250206T142607Z
LAST-MODIFIED:20250206T142607Z
UID:10000227-1837848600-1837855800@playhouse.csmdemo.com
SUMMARY:Members-Only Open Art Studio
DESCRIPTION:Come create art with us! \nJoin us each week to explore how illustrators bring imagination to life through various artistic processes. Each month features a different theme. \nThis program has been made possible by a grant from the Community Foundation of Central Illinois and is partially supported by a grant from the Illinois Arts Council Agency.
URL:https://playhouse.csmdemo.com/event/members-only-open-art-studio/2028-03-28/
CATEGORIES:Drop in Program,Fun For All Ages,Member's Only
ATTACH;FMTTYPE=image/png:https://playhouse.csmdemo.com/wp-content/uploads/Members-Only-Open-Art-Studio-Square-Design-768x765-1.png
END:VEVENT
BEGIN:VEVENT
DTSTART;TZID=America/Chicago:20280331T100000
DTEND;TZID=America/Chicago:20280331T120000
DTSTAMP:20260420T013934
CREATED:20250206T175930Z
LAST-MODIFIED:20250206T175930Z
UID:10000899-1838109600-1838116800@playhouse.csmdemo.com
SUMMARY:Open Art Studio
DESCRIPTION:Come create art with us! \nJoin us each week to explore how illustrators bring imagination to life through various artistic processes. Each month features a different theme. \nThis program has been made possible by a grant from the Community Foundation of Central Illinois and is partially supported by a grant from the Illinois Arts Council Agency.
URL:https://playhouse.csmdemo.com/event/open-art-studio/2028-03-31/
CATEGORIES:Drop in Program,Fun For All Ages
ATTACH;FMTTYPE=image/png:https://playhouse.csmdemo.com/wp-content/uploads/Open-Art-Studio-Square-Design-2-768x768-1.png
END:VEVENT
BEGIN:VEVENT
DTSTART;TZID=America/Chicago:20280404T093000
DTEND;TZID=America/Chicago:20280404T113000
DTSTAMP:20260420T013934
CREATED:20250206T142607Z
LAST-MODIFIED:20250206T142607Z
UID:10000228-1838453400-1838460600@playhouse.csmdemo.com
SUMMARY:Members-Only Open Art Studio
DESCRIPTION:Come create art with us! \nJoin us each week to explore how illustrators bring imagination to life through various artistic processes. Each month features a different theme. \nThis program has been made possible by a grant from the Community Foundation of Central Illinois and is partially supported by a grant from the Illinois Arts Council Agency.
URL:https://playhouse.csmdemo.com/event/members-only-open-art-studio/2028-04-04/
CATEGORIES:Drop in Program,Fun For All Ages,Member's Only
ATTACH;FMTTYPE=image/png:https://playhouse.csmdemo.com/wp-content/uploads/Members-Only-Open-Art-Studio-Square-Design-768x765-1.png
END:VEVENT
BEGIN:VEVENT
DTSTART;TZID=America/Chicago:20280406T163000
DTEND;TZID=America/Chicago:20280406T180000
DTSTAMP:20260420T013934
CREATED:20250206T180527Z
LAST-MODIFIED:20250206T180527Z
UID:10001081-1838651400-1838656800@playhouse.csmdemo.com
SUMMARY:Sensory Inclusion Night
DESCRIPTION:Join us for a fun\, sensory-friendly night with dimmer lights\, less noise\, and sensory toys. Open to children of all needs and abilities\, and their families. Sensory Packs with noise-canceling headphones\, fidget toys\, sunglasses\, and other materials are always available at the front desk. \nNo pre-registration is required. \nCost: Regular admission rates at $10 per person or $3 with WIC/Link
URL:https://playhouse.csmdemo.com/event/sensory-inclusion-night/2028-04-06/
CATEGORIES:Accessibility,Community Collaboration,Fun For All Ages
ATTACH;FMTTYPE=image/png:https://playhouse.csmdemo.com/wp-content/uploads/Sensory-Inclusion-Night-Graphic.png
END:VEVENT
BEGIN:VEVENT
DTSTART;TZID=America/Chicago:20280407T100000
DTEND;TZID=America/Chicago:20280407T120000
DTSTAMP:20260420T013934
CREATED:20250206T175930Z
LAST-MODIFIED:20250206T175930Z
UID:10000900-1838714400-1838721600@playhouse.csmdemo.com
SUMMARY:Open Art Studio
DESCRIPTION:Come create art with us! \nJoin us each week to explore how illustrators bring imagination to life through various artistic processes. Each month features a different theme. \nThis program has been made possible by a grant from the Community Foundation of Central Illinois and is partially supported by a grant from the Illinois Arts Council Agency.
URL:https://playhouse.csmdemo.com/event/open-art-studio/2028-04-07/
CATEGORIES:Drop in Program,Fun For All Ages
ATTACH;FMTTYPE=image/png:https://playhouse.csmdemo.com/wp-content/uploads/Open-Art-Studio-Square-Design-2-768x768-1.png
END:VEVENT
BEGIN:VEVENT
DTSTART;TZID=America/Chicago:20280411T093000
DTEND;TZID=America/Chicago:20280411T113000
DTSTAMP:20260420T013934
CREATED:20250206T142607Z
LAST-MODIFIED:20250206T142607Z
UID:10000229-1839058200-1839065400@playhouse.csmdemo.com
SUMMARY:Members-Only Open Art Studio
DESCRIPTION:Come create art with us! \nJoin us each week to explore how illustrators bring imagination to life through various artistic processes. Each month features a different theme. \nThis program has been made possible by a grant from the Community Foundation of Central Illinois and is partially supported by a grant from the Illinois Arts Council Agency.
URL:https://playhouse.csmdemo.com/event/members-only-open-art-studio/2028-04-11/
CATEGORIES:Drop in Program,Fun For All Ages,Member's Only
ATTACH;FMTTYPE=image/png:https://playhouse.csmdemo.com/wp-content/uploads/Members-Only-Open-Art-Studio-Square-Design-768x765-1.png
END:VEVENT
BEGIN:VEVENT
DTSTART;TZID=America/Chicago:20280414T100000
DTEND;TZID=America/Chicago:20280414T120000
DTSTAMP:20260420T013934
CREATED:20250206T175930Z
LAST-MODIFIED:20250206T175930Z
UID:10000901-1839319200-1839326400@playhouse.csmdemo.com
SUMMARY:Open Art Studio
DESCRIPTION:Come create art with us! \nJoin us each week to explore how illustrators bring imagination to life through various artistic processes. Each month features a different theme. \nThis program has been made possible by a grant from the Community Foundation of Central Illinois and is partially supported by a grant from the Illinois Arts Council Agency.
URL:https://playhouse.csmdemo.com/event/open-art-studio/2028-04-14/
CATEGORIES:Drop in Program,Fun For All Ages
ATTACH;FMTTYPE=image/png:https://playhouse.csmdemo.com/wp-content/uploads/Open-Art-Studio-Square-Design-2-768x768-1.png
END:VEVENT
BEGIN:VEVENT
DTSTART;TZID=America/Chicago:20280418T093000
DTEND;TZID=America/Chicago:20280418T113000
DTSTAMP:20260420T013934
CREATED:20250206T142607Z
LAST-MODIFIED:20250206T142607Z
UID:10000230-1839663000-1839670200@playhouse.csmdemo.com
SUMMARY:Members-Only Open Art Studio
DESCRIPTION:Come create art with us! \nJoin us each week to explore how illustrators bring imagination to life through various artistic processes. Each month features a different theme. \nThis program has been made possible by a grant from the Community Foundation of Central Illinois and is partially supported by a grant from the Illinois Arts Council Agency.
URL:https://playhouse.csmdemo.com/event/members-only-open-art-studio/2028-04-18/
CATEGORIES:Drop in Program,Fun For All Ages,Member's Only
ATTACH;FMTTYPE=image/png:https://playhouse.csmdemo.com/wp-content/uploads/Members-Only-Open-Art-Studio-Square-Design-768x765-1.png
END:VEVENT
BEGIN:VEVENT
DTSTART;TZID=America/Chicago:20280420T163000
DTEND;TZID=America/Chicago:20280420T180000
DTSTAMP:20260420T013934
CREATED:20250206T180527Z
LAST-MODIFIED:20250206T180527Z
UID:10001082-1839861000-1839866400@playhouse.csmdemo.com
SUMMARY:Sensory Inclusion Night
DESCRIPTION:Join us for a fun\, sensory-friendly night with dimmer lights\, less noise\, and sensory toys. Open to children of all needs and abilities\, and their families. Sensory Packs with noise-canceling headphones\, fidget toys\, sunglasses\, and other materials are always available at the front desk. \nNo pre-registration is required. \nCost: Regular admission rates at $10 per person or $3 with WIC/Link
URL:https://playhouse.csmdemo.com/event/sensory-inclusion-night/2028-04-20/
CATEGORIES:Accessibility,Community Collaboration,Fun For All Ages
ATTACH;FMTTYPE=image/png:https://playhouse.csmdemo.com/wp-content/uploads/Sensory-Inclusion-Night-Graphic.png
END:VEVENT
BEGIN:VEVENT
DTSTART;TZID=America/Chicago:20280421T100000
DTEND;TZID=America/Chicago:20280421T120000
DTSTAMP:20260420T013934
CREATED:20250206T175930Z
LAST-MODIFIED:20250206T175930Z
UID:10000902-1839924000-1839931200@playhouse.csmdemo.com
SUMMARY:Open Art Studio
DESCRIPTION:Come create art with us! \nJoin us each week to explore how illustrators bring imagination to life through various artistic processes. Each month features a different theme. \nThis program has been made possible by a grant from the Community Foundation of Central Illinois and is partially supported by a grant from the Illinois Arts Council Agency.
URL:https://playhouse.csmdemo.com/event/open-art-studio/2028-04-21/
CATEGORIES:Drop in Program,Fun For All Ages
ATTACH;FMTTYPE=image/png:https://playhouse.csmdemo.com/wp-content/uploads/Open-Art-Studio-Square-Design-2-768x768-1.png
END:VEVENT
BEGIN:VEVENT
DTSTART;TZID=America/Chicago:20280425T093000
DTEND;TZID=America/Chicago:20280425T113000
DTSTAMP:20260420T013934
CREATED:20250206T142607Z
LAST-MODIFIED:20250206T142607Z
UID:10000231-1840267800-1840275000@playhouse.csmdemo.com
SUMMARY:Members-Only Open Art Studio
DESCRIPTION:Come create art with us! \nJoin us each week to explore how illustrators bring imagination to life through various artistic processes. Each month features a different theme. \nThis program has been made possible by a grant from the Community Foundation of Central Illinois and is partially supported by a grant from the Illinois Arts Council Agency.
URL:https://playhouse.csmdemo.com/event/members-only-open-art-studio/2028-04-25/
CATEGORIES:Drop in Program,Fun For All Ages,Member's Only
ATTACH;FMTTYPE=image/png:https://playhouse.csmdemo.com/wp-content/uploads/Members-Only-Open-Art-Studio-Square-Design-768x765-1.png
END:VEVENT
END:VCALENDAR