


BEGIN:VCALENDAR
VERSION:2.0
PRODID:-//Peoria PlayHouse - ECPv6.10.1//NONSGML v1.0//EN
CALSCALE:GREGORIAN
METHOD:PUBLISH
X-WR-CALNAME:Peoria PlayHouse
X-ORIGINAL-URL:https://playhouse.csmdemo.com
X-WR-CALDESC:Events for Peoria PlayHouse
REFRESH-INTERVAL;VALUE=DURATION:PT1H
X-Robots-Tag:noindex
X-PUBLISHED-TTL:PT1H
BEGIN:VTIMEZONE
TZID:America/Chicago
BEGIN:DAYLIGHT
TZOFFSETFROM:-0600
TZOFFSETTO:-0500
TZNAME:CDT
DTSTART:20280312T080000
END:DAYLIGHT
BEGIN:STANDARD
TZOFFSETFROM:-0500
TZOFFSETTO:-0600
TZNAME:CST
DTSTART:20281105T070000
END:STANDARD
END:VTIMEZONE
BEGIN:VEVENT
DTSTART;TZID=America/Chicago:20280623T100000
DTEND;TZID=America/Chicago:20280623T120000
DTSTAMP:20260424T072216
CREATED:20250206T175930Z
LAST-MODIFIED:20250206T175930Z
UID:10000911-1845367200-1845374400@playhouse.csmdemo.com
SUMMARY:Open Art Studio
DESCRIPTION:Come create art with us! \nJoin us each week to explore how illustrators bring imagination to life through various artistic processes. Each month features a different theme. \nThis program has been made possible by a grant from the Community Foundation of Central Illinois and is partially supported by a grant from the Illinois Arts Council Agency.
URL:https://playhouse.csmdemo.com/event/open-art-studio/2028-06-23/
CATEGORIES:Drop in Program,Fun For All Ages
ATTACH;FMTTYPE=image/png:https://playhouse.csmdemo.com/wp-content/uploads/Open-Art-Studio-Square-Design-2-768x768-1.png
END:VEVENT
BEGIN:VEVENT
DTSTART;TZID=America/Chicago:20280627T093000
DTEND;TZID=America/Chicago:20280627T113000
DTSTAMP:20260424T072216
CREATED:20250206T142607Z
LAST-MODIFIED:20250206T142607Z
UID:10000240-1845711000-1845718200@playhouse.csmdemo.com
SUMMARY:Members-Only Open Art Studio
DESCRIPTION:Come create art with us! \nJoin us each week to explore how illustrators bring imagination to life through various artistic processes. Each month features a different theme. \nThis program has been made possible by a grant from the Community Foundation of Central Illinois and is partially supported by a grant from the Illinois Arts Council Agency.
URL:https://playhouse.csmdemo.com/event/members-only-open-art-studio/2028-06-27/
CATEGORIES:Drop in Program,Fun For All Ages,Member's Only
ATTACH;FMTTYPE=image/png:https://playhouse.csmdemo.com/wp-content/uploads/Members-Only-Open-Art-Studio-Square-Design-768x765-1.png
END:VEVENT
BEGIN:VEVENT
DTSTART;TZID=America/Chicago:20280629T163000
DTEND;TZID=America/Chicago:20280629T180000
DTSTAMP:20260424T072216
CREATED:20250206T180527Z
LAST-MODIFIED:20250206T180527Z
UID:10001087-1845909000-1845914400@playhouse.csmdemo.com
SUMMARY:Sensory Inclusion Night
DESCRIPTION:Join us for a fun\, sensory-friendly night with dimmer lights\, less noise\, and sensory toys. Open to children of all needs and abilities\, and their families. Sensory Packs with noise-canceling headphones\, fidget toys\, sunglasses\, and other materials are always available at the front desk. \nNo pre-registration is required. \nCost: Regular admission rates at $10 per person or $3 with WIC/Link
URL:https://playhouse.csmdemo.com/event/sensory-inclusion-night/2028-06-29/
CATEGORIES:Accessibility,Community Collaboration,Fun For All Ages
ATTACH;FMTTYPE=image/png:https://playhouse.csmdemo.com/wp-content/uploads/Sensory-Inclusion-Night-Graphic.png
END:VEVENT
BEGIN:VEVENT
DTSTART;TZID=America/Chicago:20280630T100000
DTEND;TZID=America/Chicago:20280630T120000
DTSTAMP:20260424T072216
CREATED:20250206T175930Z
LAST-MODIFIED:20250206T175930Z
UID:10000912-1845972000-1845979200@playhouse.csmdemo.com
SUMMARY:Open Art Studio
DESCRIPTION:Come create art with us! \nJoin us each week to explore how illustrators bring imagination to life through various artistic processes. Each month features a different theme. \nThis program has been made possible by a grant from the Community Foundation of Central Illinois and is partially supported by a grant from the Illinois Arts Council Agency.
URL:https://playhouse.csmdemo.com/event/open-art-studio/2028-06-30/
CATEGORIES:Drop in Program,Fun For All Ages
ATTACH;FMTTYPE=image/png:https://playhouse.csmdemo.com/wp-content/uploads/Open-Art-Studio-Square-Design-2-768x768-1.png
END:VEVENT
BEGIN:VEVENT
DTSTART;TZID=America/Chicago:20280704T093000
DTEND;TZID=America/Chicago:20280704T113000
DTSTAMP:20260424T072216
CREATED:20250206T142607Z
LAST-MODIFIED:20250206T142607Z
UID:10000241-1846315800-1846323000@playhouse.csmdemo.com
SUMMARY:Members-Only Open Art Studio
DESCRIPTION:Come create art with us! \nJoin us each week to explore how illustrators bring imagination to life through various artistic processes. Each month features a different theme. \nThis program has been made possible by a grant from the Community Foundation of Central Illinois and is partially supported by a grant from the Illinois Arts Council Agency.
URL:https://playhouse.csmdemo.com/event/members-only-open-art-studio/2028-07-04/
CATEGORIES:Drop in Program,Fun For All Ages,Member's Only
ATTACH;FMTTYPE=image/png:https://playhouse.csmdemo.com/wp-content/uploads/Members-Only-Open-Art-Studio-Square-Design-768x765-1.png
END:VEVENT
BEGIN:VEVENT
DTSTART;TZID=America/Chicago:20280707T100000
DTEND;TZID=America/Chicago:20280707T120000
DTSTAMP:20260424T072216
CREATED:20250206T175930Z
LAST-MODIFIED:20250206T175930Z
UID:10000913-1846576800-1846584000@playhouse.csmdemo.com
SUMMARY:Open Art Studio
DESCRIPTION:Come create art with us! \nJoin us each week to explore how illustrators bring imagination to life through various artistic processes. Each month features a different theme. \nThis program has been made possible by a grant from the Community Foundation of Central Illinois and is partially supported by a grant from the Illinois Arts Council Agency.
URL:https://playhouse.csmdemo.com/event/open-art-studio/2028-07-07/
CATEGORIES:Drop in Program,Fun For All Ages
ATTACH;FMTTYPE=image/png:https://playhouse.csmdemo.com/wp-content/uploads/Open-Art-Studio-Square-Design-2-768x768-1.png
END:VEVENT
BEGIN:VEVENT
DTSTART;TZID=America/Chicago:20280711T093000
DTEND;TZID=America/Chicago:20280711T113000
DTSTAMP:20260424T072216
CREATED:20250206T142607Z
LAST-MODIFIED:20250206T142607Z
UID:10000242-1846920600-1846927800@playhouse.csmdemo.com
SUMMARY:Members-Only Open Art Studio
DESCRIPTION:Come create art with us! \nJoin us each week to explore how illustrators bring imagination to life through various artistic processes. Each month features a different theme. \nThis program has been made possible by a grant from the Community Foundation of Central Illinois and is partially supported by a grant from the Illinois Arts Council Agency.
URL:https://playhouse.csmdemo.com/event/members-only-open-art-studio/2028-07-11/
CATEGORIES:Drop in Program,Fun For All Ages,Member's Only
ATTACH;FMTTYPE=image/png:https://playhouse.csmdemo.com/wp-content/uploads/Members-Only-Open-Art-Studio-Square-Design-768x765-1.png
END:VEVENT
BEGIN:VEVENT
DTSTART;TZID=America/Chicago:20280713T163000
DTEND;TZID=America/Chicago:20280713T180000
DTSTAMP:20260424T072216
CREATED:20250206T180527Z
LAST-MODIFIED:20250206T180527Z
UID:10001088-1847118600-1847124000@playhouse.csmdemo.com
SUMMARY:Sensory Inclusion Night
DESCRIPTION:Join us for a fun\, sensory-friendly night with dimmer lights\, less noise\, and sensory toys. Open to children of all needs and abilities\, and their families. Sensory Packs with noise-canceling headphones\, fidget toys\, sunglasses\, and other materials are always available at the front desk. \nNo pre-registration is required. \nCost: Regular admission rates at $10 per person or $3 with WIC/Link
URL:https://playhouse.csmdemo.com/event/sensory-inclusion-night/2028-07-13/
CATEGORIES:Accessibility,Community Collaboration,Fun For All Ages
ATTACH;FMTTYPE=image/png:https://playhouse.csmdemo.com/wp-content/uploads/Sensory-Inclusion-Night-Graphic.png
END:VEVENT
BEGIN:VEVENT
DTSTART;TZID=America/Chicago:20280714T100000
DTEND;TZID=America/Chicago:20280714T120000
DTSTAMP:20260424T072216
CREATED:20250206T175930Z
LAST-MODIFIED:20250206T175930Z
UID:10000914-1847181600-1847188800@playhouse.csmdemo.com
SUMMARY:Open Art Studio
DESCRIPTION:Come create art with us! \nJoin us each week to explore how illustrators bring imagination to life through various artistic processes. Each month features a different theme. \nThis program has been made possible by a grant from the Community Foundation of Central Illinois and is partially supported by a grant from the Illinois Arts Council Agency.
URL:https://playhouse.csmdemo.com/event/open-art-studio/2028-07-14/
CATEGORIES:Drop in Program,Fun For All Ages
ATTACH;FMTTYPE=image/png:https://playhouse.csmdemo.com/wp-content/uploads/Open-Art-Studio-Square-Design-2-768x768-1.png
END:VEVENT
BEGIN:VEVENT
DTSTART;TZID=America/Chicago:20280718T093000
DTEND;TZID=America/Chicago:20280718T113000
DTSTAMP:20260424T072216
CREATED:20250206T142607Z
LAST-MODIFIED:20250206T142607Z
UID:10000243-1847525400-1847532600@playhouse.csmdemo.com
SUMMARY:Members-Only Open Art Studio
DESCRIPTION:Come create art with us! \nJoin us each week to explore how illustrators bring imagination to life through various artistic processes. Each month features a different theme. \nThis program has been made possible by a grant from the Community Foundation of Central Illinois and is partially supported by a grant from the Illinois Arts Council Agency.
URL:https://playhouse.csmdemo.com/event/members-only-open-art-studio/2028-07-18/
CATEGORIES:Drop in Program,Fun For All Ages,Member's Only
ATTACH;FMTTYPE=image/png:https://playhouse.csmdemo.com/wp-content/uploads/Members-Only-Open-Art-Studio-Square-Design-768x765-1.png
END:VEVENT
BEGIN:VEVENT
DTSTART;TZID=America/Chicago:20280721T100000
DTEND;TZID=America/Chicago:20280721T120000
DTSTAMP:20260424T072216
CREATED:20250206T175930Z
LAST-MODIFIED:20250206T175930Z
UID:10000915-1847786400-1847793600@playhouse.csmdemo.com
SUMMARY:Open Art Studio
DESCRIPTION:Come create art with us! \nJoin us each week to explore how illustrators bring imagination to life through various artistic processes. Each month features a different theme. \nThis program has been made possible by a grant from the Community Foundation of Central Illinois and is partially supported by a grant from the Illinois Arts Council Agency.
URL:https://playhouse.csmdemo.com/event/open-art-studio/2028-07-21/
CATEGORIES:Drop in Program,Fun For All Ages
ATTACH;FMTTYPE=image/png:https://playhouse.csmdemo.com/wp-content/uploads/Open-Art-Studio-Square-Design-2-768x768-1.png
END:VEVENT
BEGIN:VEVENT
DTSTART;TZID=America/Chicago:20280725T093000
DTEND;TZID=America/Chicago:20280725T113000
DTSTAMP:20260424T072216
CREATED:20250206T142607Z
LAST-MODIFIED:20250206T142607Z
UID:10000244-1848130200-1848137400@playhouse.csmdemo.com
SUMMARY:Members-Only Open Art Studio
DESCRIPTION:Come create art with us! \nJoin us each week to explore how illustrators bring imagination to life through various artistic processes. Each month features a different theme. \nThis program has been made possible by a grant from the Community Foundation of Central Illinois and is partially supported by a grant from the Illinois Arts Council Agency.
URL:https://playhouse.csmdemo.com/event/members-only-open-art-studio/2028-07-25/
CATEGORIES:Drop in Program,Fun For All Ages,Member's Only
ATTACH;FMTTYPE=image/png:https://playhouse.csmdemo.com/wp-content/uploads/Members-Only-Open-Art-Studio-Square-Design-768x765-1.png
END:VEVENT
BEGIN:VEVENT
DTSTART;TZID=America/Chicago:20280727T163000
DTEND;TZID=America/Chicago:20280727T180000
DTSTAMP:20260424T072216
CREATED:20250206T180527Z
LAST-MODIFIED:20250206T180527Z
UID:10001089-1848328200-1848333600@playhouse.csmdemo.com
SUMMARY:Sensory Inclusion Night
DESCRIPTION:Join us for a fun\, sensory-friendly night with dimmer lights\, less noise\, and sensory toys. Open to children of all needs and abilities\, and their families. Sensory Packs with noise-canceling headphones\, fidget toys\, sunglasses\, and other materials are always available at the front desk. \nNo pre-registration is required. \nCost: Regular admission rates at $10 per person or $3 with WIC/Link
URL:https://playhouse.csmdemo.com/event/sensory-inclusion-night/2028-07-27/
CATEGORIES:Accessibility,Community Collaboration,Fun For All Ages
ATTACH;FMTTYPE=image/png:https://playhouse.csmdemo.com/wp-content/uploads/Sensory-Inclusion-Night-Graphic.png
END:VEVENT
BEGIN:VEVENT
DTSTART;TZID=America/Chicago:20280728T100000
DTEND;TZID=America/Chicago:20280728T120000
DTSTAMP:20260424T072216
CREATED:20250206T175930Z
LAST-MODIFIED:20250206T175930Z
UID:10000916-1848391200-1848398400@playhouse.csmdemo.com
SUMMARY:Open Art Studio
DESCRIPTION:Come create art with us! \nJoin us each week to explore how illustrators bring imagination to life through various artistic processes. Each month features a different theme. \nThis program has been made possible by a grant from the Community Foundation of Central Illinois and is partially supported by a grant from the Illinois Arts Council Agency.
URL:https://playhouse.csmdemo.com/event/open-art-studio/2028-07-28/
CATEGORIES:Drop in Program,Fun For All Ages
ATTACH;FMTTYPE=image/png:https://playhouse.csmdemo.com/wp-content/uploads/Open-Art-Studio-Square-Design-2-768x768-1.png
END:VEVENT
BEGIN:VEVENT
DTSTART;TZID=America/Chicago:20280801T093000
DTEND;TZID=America/Chicago:20280801T113000
DTSTAMP:20260424T072216
CREATED:20250206T142607Z
LAST-MODIFIED:20250206T142607Z
UID:10000245-1848735000-1848742200@playhouse.csmdemo.com
SUMMARY:Members-Only Open Art Studio
DESCRIPTION:Come create art with us! \nJoin us each week to explore how illustrators bring imagination to life through various artistic processes. Each month features a different theme. \nThis program has been made possible by a grant from the Community Foundation of Central Illinois and is partially supported by a grant from the Illinois Arts Council Agency.
URL:https://playhouse.csmdemo.com/event/members-only-open-art-studio/2028-08-01/
CATEGORIES:Drop in Program,Fun For All Ages,Member's Only
ATTACH;FMTTYPE=image/png:https://playhouse.csmdemo.com/wp-content/uploads/Members-Only-Open-Art-Studio-Square-Design-768x765-1.png
END:VEVENT
BEGIN:VEVENT
DTSTART;TZID=America/Chicago:20280804T100000
DTEND;TZID=America/Chicago:20280804T120000
DTSTAMP:20260424T072216
CREATED:20250206T175930Z
LAST-MODIFIED:20250206T175930Z
UID:10000917-1848996000-1849003200@playhouse.csmdemo.com
SUMMARY:Open Art Studio
DESCRIPTION:Come create art with us! \nJoin us each week to explore how illustrators bring imagination to life through various artistic processes. Each month features a different theme. \nThis program has been made possible by a grant from the Community Foundation of Central Illinois and is partially supported by a grant from the Illinois Arts Council Agency.
URL:https://playhouse.csmdemo.com/event/open-art-studio/2028-08-04/
CATEGORIES:Drop in Program,Fun For All Ages
ATTACH;FMTTYPE=image/png:https://playhouse.csmdemo.com/wp-content/uploads/Open-Art-Studio-Square-Design-2-768x768-1.png
END:VEVENT
BEGIN:VEVENT
DTSTART;TZID=America/Chicago:20280808T093000
DTEND;TZID=America/Chicago:20280808T113000
DTSTAMP:20260424T072216
CREATED:20250206T142607Z
LAST-MODIFIED:20250206T142607Z
UID:10000246-1849339800-1849347000@playhouse.csmdemo.com
SUMMARY:Members-Only Open Art Studio
DESCRIPTION:Come create art with us! \nJoin us each week to explore how illustrators bring imagination to life through various artistic processes. Each month features a different theme. \nThis program has been made possible by a grant from the Community Foundation of Central Illinois and is partially supported by a grant from the Illinois Arts Council Agency.
URL:https://playhouse.csmdemo.com/event/members-only-open-art-studio/2028-08-08/
CATEGORIES:Drop in Program,Fun For All Ages,Member's Only
ATTACH;FMTTYPE=image/png:https://playhouse.csmdemo.com/wp-content/uploads/Members-Only-Open-Art-Studio-Square-Design-768x765-1.png
END:VEVENT
BEGIN:VEVENT
DTSTART;TZID=America/Chicago:20280810T163000
DTEND;TZID=America/Chicago:20280810T180000
DTSTAMP:20260424T072216
CREATED:20250206T180527Z
LAST-MODIFIED:20250206T180527Z
UID:10001090-1849537800-1849543200@playhouse.csmdemo.com
SUMMARY:Sensory Inclusion Night
DESCRIPTION:Join us for a fun\, sensory-friendly night with dimmer lights\, less noise\, and sensory toys. Open to children of all needs and abilities\, and their families. Sensory Packs with noise-canceling headphones\, fidget toys\, sunglasses\, and other materials are always available at the front desk. \nNo pre-registration is required. \nCost: Regular admission rates at $10 per person or $3 with WIC/Link
URL:https://playhouse.csmdemo.com/event/sensory-inclusion-night/2028-08-10/
CATEGORIES:Accessibility,Community Collaboration,Fun For All Ages
ATTACH;FMTTYPE=image/png:https://playhouse.csmdemo.com/wp-content/uploads/Sensory-Inclusion-Night-Graphic.png
END:VEVENT
BEGIN:VEVENT
DTSTART;TZID=America/Chicago:20280811T100000
DTEND;TZID=America/Chicago:20280811T120000
DTSTAMP:20260424T072216
CREATED:20250206T175930Z
LAST-MODIFIED:20250206T175930Z
UID:10000918-1849600800-1849608000@playhouse.csmdemo.com
SUMMARY:Open Art Studio
DESCRIPTION:Come create art with us! \nJoin us each week to explore how illustrators bring imagination to life through various artistic processes. Each month features a different theme. \nThis program has been made possible by a grant from the Community Foundation of Central Illinois and is partially supported by a grant from the Illinois Arts Council Agency.
URL:https://playhouse.csmdemo.com/event/open-art-studio/2028-08-11/
CATEGORIES:Drop in Program,Fun For All Ages
ATTACH;FMTTYPE=image/png:https://playhouse.csmdemo.com/wp-content/uploads/Open-Art-Studio-Square-Design-2-768x768-1.png
END:VEVENT
BEGIN:VEVENT
DTSTART;TZID=America/Chicago:20280815T093000
DTEND;TZID=America/Chicago:20280815T113000
DTSTAMP:20260424T072216
CREATED:20250206T142607Z
LAST-MODIFIED:20250206T142607Z
UID:10000247-1849944600-1849951800@playhouse.csmdemo.com
SUMMARY:Members-Only Open Art Studio
DESCRIPTION:Come create art with us! \nJoin us each week to explore how illustrators bring imagination to life through various artistic processes. Each month features a different theme. \nThis program has been made possible by a grant from the Community Foundation of Central Illinois and is partially supported by a grant from the Illinois Arts Council Agency.
URL:https://playhouse.csmdemo.com/event/members-only-open-art-studio/2028-08-15/
CATEGORIES:Drop in Program,Fun For All Ages,Member's Only
ATTACH;FMTTYPE=image/png:https://playhouse.csmdemo.com/wp-content/uploads/Members-Only-Open-Art-Studio-Square-Design-768x765-1.png
END:VEVENT
BEGIN:VEVENT
DTSTART;TZID=America/Chicago:20280818T100000
DTEND;TZID=America/Chicago:20280818T120000
DTSTAMP:20260424T072216
CREATED:20250206T175930Z
LAST-MODIFIED:20250206T175930Z
UID:10000919-1850205600-1850212800@playhouse.csmdemo.com
SUMMARY:Open Art Studio
DESCRIPTION:Come create art with us! \nJoin us each week to explore how illustrators bring imagination to life through various artistic processes. Each month features a different theme. \nThis program has been made possible by a grant from the Community Foundation of Central Illinois and is partially supported by a grant from the Illinois Arts Council Agency.
URL:https://playhouse.csmdemo.com/event/open-art-studio/2028-08-18/
CATEGORIES:Drop in Program,Fun For All Ages
ATTACH;FMTTYPE=image/png:https://playhouse.csmdemo.com/wp-content/uploads/Open-Art-Studio-Square-Design-2-768x768-1.png
END:VEVENT
BEGIN:VEVENT
DTSTART;TZID=America/Chicago:20280822T093000
DTEND;TZID=America/Chicago:20280822T113000
DTSTAMP:20260424T072216
CREATED:20250206T142607Z
LAST-MODIFIED:20250206T142607Z
UID:10000248-1850549400-1850556600@playhouse.csmdemo.com
SUMMARY:Members-Only Open Art Studio
DESCRIPTION:Come create art with us! \nJoin us each week to explore how illustrators bring imagination to life through various artistic processes. Each month features a different theme. \nThis program has been made possible by a grant from the Community Foundation of Central Illinois and is partially supported by a grant from the Illinois Arts Council Agency.
URL:https://playhouse.csmdemo.com/event/members-only-open-art-studio/2028-08-22/
CATEGORIES:Drop in Program,Fun For All Ages,Member's Only
ATTACH;FMTTYPE=image/png:https://playhouse.csmdemo.com/wp-content/uploads/Members-Only-Open-Art-Studio-Square-Design-768x765-1.png
END:VEVENT
BEGIN:VEVENT
DTSTART;TZID=America/Chicago:20280824T163000
DTEND;TZID=America/Chicago:20280824T180000
DTSTAMP:20260424T072216
CREATED:20250206T180527Z
LAST-MODIFIED:20250206T180527Z
UID:10001091-1850747400-1850752800@playhouse.csmdemo.com
SUMMARY:Sensory Inclusion Night
DESCRIPTION:Join us for a fun\, sensory-friendly night with dimmer lights\, less noise\, and sensory toys. Open to children of all needs and abilities\, and their families. Sensory Packs with noise-canceling headphones\, fidget toys\, sunglasses\, and other materials are always available at the front desk. \nNo pre-registration is required. \nCost: Regular admission rates at $10 per person or $3 with WIC/Link
URL:https://playhouse.csmdemo.com/event/sensory-inclusion-night/2028-08-24/
CATEGORIES:Accessibility,Community Collaboration,Fun For All Ages
ATTACH;FMTTYPE=image/png:https://playhouse.csmdemo.com/wp-content/uploads/Sensory-Inclusion-Night-Graphic.png
END:VEVENT
BEGIN:VEVENT
DTSTART;TZID=America/Chicago:20280825T100000
DTEND;TZID=America/Chicago:20280825T120000
DTSTAMP:20260424T072216
CREATED:20250206T175930Z
LAST-MODIFIED:20250206T175930Z
UID:10000920-1850810400-1850817600@playhouse.csmdemo.com
SUMMARY:Open Art Studio
DESCRIPTION:Come create art with us! \nJoin us each week to explore how illustrators bring imagination to life through various artistic processes. Each month features a different theme. \nThis program has been made possible by a grant from the Community Foundation of Central Illinois and is partially supported by a grant from the Illinois Arts Council Agency.
URL:https://playhouse.csmdemo.com/event/open-art-studio/2028-08-25/
CATEGORIES:Drop in Program,Fun For All Ages
ATTACH;FMTTYPE=image/png:https://playhouse.csmdemo.com/wp-content/uploads/Open-Art-Studio-Square-Design-2-768x768-1.png
END:VEVENT
BEGIN:VEVENT
DTSTART;TZID=America/Chicago:20280829T093000
DTEND;TZID=America/Chicago:20280829T113000
DTSTAMP:20260424T072216
CREATED:20250206T142607Z
LAST-MODIFIED:20250206T142607Z
UID:10000249-1851154200-1851161400@playhouse.csmdemo.com
SUMMARY:Members-Only Open Art Studio
DESCRIPTION:Come create art with us! \nJoin us each week to explore how illustrators bring imagination to life through various artistic processes. Each month features a different theme. \nThis program has been made possible by a grant from the Community Foundation of Central Illinois and is partially supported by a grant from the Illinois Arts Council Agency.
URL:https://playhouse.csmdemo.com/event/members-only-open-art-studio/2028-08-29/
CATEGORIES:Drop in Program,Fun For All Ages,Member's Only
ATTACH;FMTTYPE=image/png:https://playhouse.csmdemo.com/wp-content/uploads/Members-Only-Open-Art-Studio-Square-Design-768x765-1.png
END:VEVENT
BEGIN:VEVENT
DTSTART;TZID=America/Chicago:20280901T100000
DTEND;TZID=America/Chicago:20280901T120000
DTSTAMP:20260424T072216
CREATED:20250206T175930Z
LAST-MODIFIED:20250206T175930Z
UID:10000921-1851415200-1851422400@playhouse.csmdemo.com
SUMMARY:Open Art Studio
DESCRIPTION:Come create art with us! \nJoin us each week to explore how illustrators bring imagination to life through various artistic processes. Each month features a different theme. \nThis program has been made possible by a grant from the Community Foundation of Central Illinois and is partially supported by a grant from the Illinois Arts Council Agency.
URL:https://playhouse.csmdemo.com/event/open-art-studio/2028-09-01/
CATEGORIES:Drop in Program,Fun For All Ages
ATTACH;FMTTYPE=image/png:https://playhouse.csmdemo.com/wp-content/uploads/Open-Art-Studio-Square-Design-2-768x768-1.png
END:VEVENT
BEGIN:VEVENT
DTSTART;TZID=America/Chicago:20280905T093000
DTEND;TZID=America/Chicago:20280905T113000
DTSTAMP:20260424T072216
CREATED:20250206T142607Z
LAST-MODIFIED:20250206T142607Z
UID:10000250-1851759000-1851766200@playhouse.csmdemo.com
SUMMARY:Members-Only Open Art Studio
DESCRIPTION:Come create art with us! \nJoin us each week to explore how illustrators bring imagination to life through various artistic processes. Each month features a different theme. \nThis program has been made possible by a grant from the Community Foundation of Central Illinois and is partially supported by a grant from the Illinois Arts Council Agency.
URL:https://playhouse.csmdemo.com/event/members-only-open-art-studio/2028-09-05/
CATEGORIES:Drop in Program,Fun For All Ages,Member's Only
ATTACH;FMTTYPE=image/png:https://playhouse.csmdemo.com/wp-content/uploads/Members-Only-Open-Art-Studio-Square-Design-768x765-1.png
END:VEVENT
BEGIN:VEVENT
DTSTART;TZID=America/Chicago:20280907T163000
DTEND;TZID=America/Chicago:20280907T180000
DTSTAMP:20260424T072216
CREATED:20250206T180527Z
LAST-MODIFIED:20250206T180527Z
UID:10001092-1851957000-1851962400@playhouse.csmdemo.com
SUMMARY:Sensory Inclusion Night
DESCRIPTION:Join us for a fun\, sensory-friendly night with dimmer lights\, less noise\, and sensory toys. Open to children of all needs and abilities\, and their families. Sensory Packs with noise-canceling headphones\, fidget toys\, sunglasses\, and other materials are always available at the front desk. \nNo pre-registration is required. \nCost: Regular admission rates at $10 per person or $3 with WIC/Link
URL:https://playhouse.csmdemo.com/event/sensory-inclusion-night/2028-09-07/
CATEGORIES:Accessibility,Community Collaboration,Fun For All Ages
ATTACH;FMTTYPE=image/png:https://playhouse.csmdemo.com/wp-content/uploads/Sensory-Inclusion-Night-Graphic.png
END:VEVENT
BEGIN:VEVENT
DTSTART;TZID=America/Chicago:20280908T100000
DTEND;TZID=America/Chicago:20280908T120000
DTSTAMP:20260424T072216
CREATED:20250206T175930Z
LAST-MODIFIED:20250206T175930Z
UID:10000922-1852020000-1852027200@playhouse.csmdemo.com
SUMMARY:Open Art Studio
DESCRIPTION:Come create art with us! \nJoin us each week to explore how illustrators bring imagination to life through various artistic processes. Each month features a different theme. \nThis program has been made possible by a grant from the Community Foundation of Central Illinois and is partially supported by a grant from the Illinois Arts Council Agency.
URL:https://playhouse.csmdemo.com/event/open-art-studio/2028-09-08/
CATEGORIES:Drop in Program,Fun For All Ages
ATTACH;FMTTYPE=image/png:https://playhouse.csmdemo.com/wp-content/uploads/Open-Art-Studio-Square-Design-2-768x768-1.png
END:VEVENT
BEGIN:VEVENT
DTSTART;TZID=America/Chicago:20280912T093000
DTEND;TZID=America/Chicago:20280912T113000
DTSTAMP:20260424T072216
CREATED:20250206T142607Z
LAST-MODIFIED:20250206T142607Z
UID:10000251-1852363800-1852371000@playhouse.csmdemo.com
SUMMARY:Members-Only Open Art Studio
DESCRIPTION:Come create art with us! \nJoin us each week to explore how illustrators bring imagination to life through various artistic processes. Each month features a different theme. \nThis program has been made possible by a grant from the Community Foundation of Central Illinois and is partially supported by a grant from the Illinois Arts Council Agency.
URL:https://playhouse.csmdemo.com/event/members-only-open-art-studio/2028-09-12/
CATEGORIES:Drop in Program,Fun For All Ages,Member's Only
ATTACH;FMTTYPE=image/png:https://playhouse.csmdemo.com/wp-content/uploads/Members-Only-Open-Art-Studio-Square-Design-768x765-1.png
END:VEVENT
END:VCALENDAR