


BEGIN:VCALENDAR
VERSION:2.0
PRODID:-//Peoria PlayHouse - ECPv6.10.1//NONSGML v1.0//EN
CALSCALE:GREGORIAN
METHOD:PUBLISH
X-ORIGINAL-URL:https://playhouse.csmdemo.com
X-WR-CALDESC:Events for Peoria PlayHouse
REFRESH-INTERVAL;VALUE=DURATION:PT1H
X-Robots-Tag:noindex
X-PUBLISHED-TTL:PT1H
BEGIN:VTIMEZONE
TZID:America/Chicago
BEGIN:DAYLIGHT
TZOFFSETFROM:-0600
TZOFFSETTO:-0500
TZNAME:CDT
DTSTART:20290311T080000
END:DAYLIGHT
BEGIN:STANDARD
TZOFFSETFROM:-0500
TZOFFSETTO:-0600
TZNAME:CST
DTSTART:20291104T070000
END:STANDARD
END:VTIMEZONE
BEGIN:VEVENT
DTSTART;TZID=America/Chicago:20290327T093000
DTEND;TZID=America/Chicago:20290327T113000
DTSTAMP:20260423T073517
CREATED:20250206T142607Z
LAST-MODIFIED:20250206T142607Z
UID:10000279-1869298200-1869305400@playhouse.csmdemo.com
SUMMARY:Members-Only Open Art Studio
DESCRIPTION:Come create art with us! \nJoin us each week to explore how illustrators bring imagination to life through various artistic processes. Each month features a different theme. \nThis program has been made possible by a grant from the Community Foundation of Central Illinois and is partially supported by a grant from the Illinois Arts Council Agency.
URL:https://playhouse.csmdemo.com/event/members-only-open-art-studio/2029-03-27/
CATEGORIES:Drop in Program,Fun For All Ages,Member's Only
ATTACH;FMTTYPE=image/png:https://playhouse.csmdemo.com/wp-content/uploads/Members-Only-Open-Art-Studio-Square-Design-768x765-1.png
END:VEVENT
BEGIN:VEVENT
DTSTART;TZID=America/Chicago:20290403T093000
DTEND;TZID=America/Chicago:20290403T113000
DTSTAMP:20260423T073517
CREATED:20250206T142607Z
LAST-MODIFIED:20250206T142607Z
UID:10000280-1869903000-1869910200@playhouse.csmdemo.com
SUMMARY:Members-Only Open Art Studio
DESCRIPTION:Come create art with us! \nJoin us each week to explore how illustrators bring imagination to life through various artistic processes. Each month features a different theme. \nThis program has been made possible by a grant from the Community Foundation of Central Illinois and is partially supported by a grant from the Illinois Arts Council Agency.
URL:https://playhouse.csmdemo.com/event/members-only-open-art-studio/2029-04-03/
CATEGORIES:Drop in Program,Fun For All Ages,Member's Only
ATTACH;FMTTYPE=image/png:https://playhouse.csmdemo.com/wp-content/uploads/Members-Only-Open-Art-Studio-Square-Design-768x765-1.png
END:VEVENT
BEGIN:VEVENT
DTSTART;TZID=America/Chicago:20290410T093000
DTEND;TZID=America/Chicago:20290410T113000
DTSTAMP:20260423T073517
CREATED:20250206T142607Z
LAST-MODIFIED:20250206T142607Z
UID:10000281-1870507800-1870515000@playhouse.csmdemo.com
SUMMARY:Members-Only Open Art Studio
DESCRIPTION:Come create art with us! \nJoin us each week to explore how illustrators bring imagination to life through various artistic processes. Each month features a different theme. \nThis program has been made possible by a grant from the Community Foundation of Central Illinois and is partially supported by a grant from the Illinois Arts Council Agency.
URL:https://playhouse.csmdemo.com/event/members-only-open-art-studio/2029-04-10/
CATEGORIES:Drop in Program,Fun For All Ages,Member's Only
ATTACH;FMTTYPE=image/png:https://playhouse.csmdemo.com/wp-content/uploads/Members-Only-Open-Art-Studio-Square-Design-768x765-1.png
END:VEVENT
BEGIN:VEVENT
DTSTART;TZID=America/Chicago:20290417T093000
DTEND;TZID=America/Chicago:20290417T113000
DTSTAMP:20260423T073517
CREATED:20250206T142607Z
LAST-MODIFIED:20250206T142607Z
UID:10000282-1871112600-1871119800@playhouse.csmdemo.com
SUMMARY:Members-Only Open Art Studio
DESCRIPTION:Come create art with us! \nJoin us each week to explore how illustrators bring imagination to life through various artistic processes. Each month features a different theme. \nThis program has been made possible by a grant from the Community Foundation of Central Illinois and is partially supported by a grant from the Illinois Arts Council Agency.
URL:https://playhouse.csmdemo.com/event/members-only-open-art-studio/2029-04-17/
CATEGORIES:Drop in Program,Fun For All Ages,Member's Only
ATTACH;FMTTYPE=image/png:https://playhouse.csmdemo.com/wp-content/uploads/Members-Only-Open-Art-Studio-Square-Design-768x765-1.png
END:VEVENT
BEGIN:VEVENT
DTSTART;TZID=America/Chicago:20290424T093000
DTEND;TZID=America/Chicago:20290424T113000
DTSTAMP:20260423T073517
CREATED:20250206T142607Z
LAST-MODIFIED:20250206T142607Z
UID:10000283-1871717400-1871724600@playhouse.csmdemo.com
SUMMARY:Members-Only Open Art Studio
DESCRIPTION:Come create art with us! \nJoin us each week to explore how illustrators bring imagination to life through various artistic processes. Each month features a different theme. \nThis program has been made possible by a grant from the Community Foundation of Central Illinois and is partially supported by a grant from the Illinois Arts Council Agency.
URL:https://playhouse.csmdemo.com/event/members-only-open-art-studio/2029-04-24/
CATEGORIES:Drop in Program,Fun For All Ages,Member's Only
ATTACH;FMTTYPE=image/png:https://playhouse.csmdemo.com/wp-content/uploads/Members-Only-Open-Art-Studio-Square-Design-768x765-1.png
END:VEVENT
BEGIN:VEVENT
DTSTART;TZID=America/Chicago:20290501T093000
DTEND;TZID=America/Chicago:20290501T113000
DTSTAMP:20260423T073517
CREATED:20250206T142607Z
LAST-MODIFIED:20250206T142607Z
UID:10000284-1872322200-1872329400@playhouse.csmdemo.com
SUMMARY:Members-Only Open Art Studio
DESCRIPTION:Come create art with us! \nJoin us each week to explore how illustrators bring imagination to life through various artistic processes. Each month features a different theme. \nThis program has been made possible by a grant from the Community Foundation of Central Illinois and is partially supported by a grant from the Illinois Arts Council Agency.
URL:https://playhouse.csmdemo.com/event/members-only-open-art-studio/2029-05-01/
CATEGORIES:Drop in Program,Fun For All Ages,Member's Only
ATTACH;FMTTYPE=image/png:https://playhouse.csmdemo.com/wp-content/uploads/Members-Only-Open-Art-Studio-Square-Design-768x765-1.png
END:VEVENT
BEGIN:VEVENT
DTSTART;TZID=America/Chicago:20290508T093000
DTEND;TZID=America/Chicago:20290508T113000
DTSTAMP:20260423T073517
CREATED:20250206T142607Z
LAST-MODIFIED:20250206T142607Z
UID:10000285-1872927000-1872934200@playhouse.csmdemo.com
SUMMARY:Members-Only Open Art Studio
DESCRIPTION:Come create art with us! \nJoin us each week to explore how illustrators bring imagination to life through various artistic processes. Each month features a different theme. \nThis program has been made possible by a grant from the Community Foundation of Central Illinois and is partially supported by a grant from the Illinois Arts Council Agency.
URL:https://playhouse.csmdemo.com/event/members-only-open-art-studio/2029-05-08/
CATEGORIES:Drop in Program,Fun For All Ages,Member's Only
ATTACH;FMTTYPE=image/png:https://playhouse.csmdemo.com/wp-content/uploads/Members-Only-Open-Art-Studio-Square-Design-768x765-1.png
END:VEVENT
BEGIN:VEVENT
DTSTART;TZID=America/Chicago:20290515T093000
DTEND;TZID=America/Chicago:20290515T113000
DTSTAMP:20260423T073517
CREATED:20250206T142607Z
LAST-MODIFIED:20250206T142607Z
UID:10000286-1873531800-1873539000@playhouse.csmdemo.com
SUMMARY:Members-Only Open Art Studio
DESCRIPTION:Come create art with us! \nJoin us each week to explore how illustrators bring imagination to life through various artistic processes. Each month features a different theme. \nThis program has been made possible by a grant from the Community Foundation of Central Illinois and is partially supported by a grant from the Illinois Arts Council Agency.
URL:https://playhouse.csmdemo.com/event/members-only-open-art-studio/2029-05-15/
CATEGORIES:Drop in Program,Fun For All Ages,Member's Only
ATTACH;FMTTYPE=image/png:https://playhouse.csmdemo.com/wp-content/uploads/Members-Only-Open-Art-Studio-Square-Design-768x765-1.png
END:VEVENT
BEGIN:VEVENT
DTSTART;TZID=America/Chicago:20290522T093000
DTEND;TZID=America/Chicago:20290522T113000
DTSTAMP:20260423T073517
CREATED:20250206T142607Z
LAST-MODIFIED:20250206T142607Z
UID:10000287-1874136600-1874143800@playhouse.csmdemo.com
SUMMARY:Members-Only Open Art Studio
DESCRIPTION:Come create art with us! \nJoin us each week to explore how illustrators bring imagination to life through various artistic processes. Each month features a different theme. \nThis program has been made possible by a grant from the Community Foundation of Central Illinois and is partially supported by a grant from the Illinois Arts Council Agency.
URL:https://playhouse.csmdemo.com/event/members-only-open-art-studio/2029-05-22/
CATEGORIES:Drop in Program,Fun For All Ages,Member's Only
ATTACH;FMTTYPE=image/png:https://playhouse.csmdemo.com/wp-content/uploads/Members-Only-Open-Art-Studio-Square-Design-768x765-1.png
END:VEVENT
BEGIN:VEVENT
DTSTART;TZID=America/Chicago:20290529T093000
DTEND;TZID=America/Chicago:20290529T113000
DTSTAMP:20260423T073517
CREATED:20250206T142607Z
LAST-MODIFIED:20250206T142607Z
UID:10000288-1874741400-1874748600@playhouse.csmdemo.com
SUMMARY:Members-Only Open Art Studio
DESCRIPTION:Come create art with us! \nJoin us each week to explore how illustrators bring imagination to life through various artistic processes. Each month features a different theme. \nThis program has been made possible by a grant from the Community Foundation of Central Illinois and is partially supported by a grant from the Illinois Arts Council Agency.
URL:https://playhouse.csmdemo.com/event/members-only-open-art-studio/2029-05-29/
CATEGORIES:Drop in Program,Fun For All Ages,Member's Only
ATTACH;FMTTYPE=image/png:https://playhouse.csmdemo.com/wp-content/uploads/Members-Only-Open-Art-Studio-Square-Design-768x765-1.png
END:VEVENT
BEGIN:VEVENT
DTSTART;TZID=America/Chicago:20290605T093000
DTEND;TZID=America/Chicago:20290605T113000
DTSTAMP:20260423T073517
CREATED:20250206T142607Z
LAST-MODIFIED:20250206T142607Z
UID:10000289-1875346200-1875353400@playhouse.csmdemo.com
SUMMARY:Members-Only Open Art Studio
DESCRIPTION:Come create art with us! \nJoin us each week to explore how illustrators bring imagination to life through various artistic processes. Each month features a different theme. \nThis program has been made possible by a grant from the Community Foundation of Central Illinois and is partially supported by a grant from the Illinois Arts Council Agency.
URL:https://playhouse.csmdemo.com/event/members-only-open-art-studio/2029-06-05/
CATEGORIES:Drop in Program,Fun For All Ages,Member's Only
ATTACH;FMTTYPE=image/png:https://playhouse.csmdemo.com/wp-content/uploads/Members-Only-Open-Art-Studio-Square-Design-768x765-1.png
END:VEVENT
BEGIN:VEVENT
DTSTART;TZID=America/Chicago:20290612T093000
DTEND;TZID=America/Chicago:20290612T113000
DTSTAMP:20260423T073517
CREATED:20250206T142607Z
LAST-MODIFIED:20250206T142607Z
UID:10000290-1875951000-1875958200@playhouse.csmdemo.com
SUMMARY:Members-Only Open Art Studio
DESCRIPTION:Come create art with us! \nJoin us each week to explore how illustrators bring imagination to life through various artistic processes. Each month features a different theme. \nThis program has been made possible by a grant from the Community Foundation of Central Illinois and is partially supported by a grant from the Illinois Arts Council Agency.
URL:https://playhouse.csmdemo.com/event/members-only-open-art-studio/2029-06-12/
CATEGORIES:Drop in Program,Fun For All Ages,Member's Only
ATTACH;FMTTYPE=image/png:https://playhouse.csmdemo.com/wp-content/uploads/Members-Only-Open-Art-Studio-Square-Design-768x765-1.png
END:VEVENT
BEGIN:VEVENT
DTSTART;TZID=America/Chicago:20290619T093000
DTEND;TZID=America/Chicago:20290619T113000
DTSTAMP:20260423T073517
CREATED:20250206T142607Z
LAST-MODIFIED:20250206T142607Z
UID:10000291-1876555800-1876563000@playhouse.csmdemo.com
SUMMARY:Members-Only Open Art Studio
DESCRIPTION:Come create art with us! \nJoin us each week to explore how illustrators bring imagination to life through various artistic processes. Each month features a different theme. \nThis program has been made possible by a grant from the Community Foundation of Central Illinois and is partially supported by a grant from the Illinois Arts Council Agency.
URL:https://playhouse.csmdemo.com/event/members-only-open-art-studio/2029-06-19/
CATEGORIES:Drop in Program,Fun For All Ages,Member's Only
ATTACH;FMTTYPE=image/png:https://playhouse.csmdemo.com/wp-content/uploads/Members-Only-Open-Art-Studio-Square-Design-768x765-1.png
END:VEVENT
BEGIN:VEVENT
DTSTART;TZID=America/Chicago:20290626T093000
DTEND;TZID=America/Chicago:20290626T113000
DTSTAMP:20260423T073517
CREATED:20250206T142607Z
LAST-MODIFIED:20250206T142607Z
UID:10000292-1877160600-1877167800@playhouse.csmdemo.com
SUMMARY:Members-Only Open Art Studio
DESCRIPTION:Come create art with us! \nJoin us each week to explore how illustrators bring imagination to life through various artistic processes. Each month features a different theme. \nThis program has been made possible by a grant from the Community Foundation of Central Illinois and is partially supported by a grant from the Illinois Arts Council Agency.
URL:https://playhouse.csmdemo.com/event/members-only-open-art-studio/2029-06-26/
CATEGORIES:Drop in Program,Fun For All Ages,Member's Only
ATTACH;FMTTYPE=image/png:https://playhouse.csmdemo.com/wp-content/uploads/Members-Only-Open-Art-Studio-Square-Design-768x765-1.png
END:VEVENT
BEGIN:VEVENT
DTSTART;TZID=America/Chicago:20290703T093000
DTEND;TZID=America/Chicago:20290703T113000
DTSTAMP:20260423T073517
CREATED:20250206T142607Z
LAST-MODIFIED:20250206T142607Z
UID:10000293-1877765400-1877772600@playhouse.csmdemo.com
SUMMARY:Members-Only Open Art Studio
DESCRIPTION:Come create art with us! \nJoin us each week to explore how illustrators bring imagination to life through various artistic processes. Each month features a different theme. \nThis program has been made possible by a grant from the Community Foundation of Central Illinois and is partially supported by a grant from the Illinois Arts Council Agency.
URL:https://playhouse.csmdemo.com/event/members-only-open-art-studio/2029-07-03/
CATEGORIES:Drop in Program,Fun For All Ages,Member's Only
ATTACH;FMTTYPE=image/png:https://playhouse.csmdemo.com/wp-content/uploads/Members-Only-Open-Art-Studio-Square-Design-768x765-1.png
END:VEVENT
BEGIN:VEVENT
DTSTART;TZID=America/Chicago:20290710T093000
DTEND;TZID=America/Chicago:20290710T113000
DTSTAMP:20260423T073517
CREATED:20250206T142607Z
LAST-MODIFIED:20250206T142607Z
UID:10000294-1878370200-1878377400@playhouse.csmdemo.com
SUMMARY:Members-Only Open Art Studio
DESCRIPTION:Come create art with us! \nJoin us each week to explore how illustrators bring imagination to life through various artistic processes. Each month features a different theme. \nThis program has been made possible by a grant from the Community Foundation of Central Illinois and is partially supported by a grant from the Illinois Arts Council Agency.
URL:https://playhouse.csmdemo.com/event/members-only-open-art-studio/2029-07-10/
CATEGORIES:Drop in Program,Fun For All Ages,Member's Only
ATTACH;FMTTYPE=image/png:https://playhouse.csmdemo.com/wp-content/uploads/Members-Only-Open-Art-Studio-Square-Design-768x765-1.png
END:VEVENT
BEGIN:VEVENT
DTSTART;TZID=America/Chicago:20290717T093000
DTEND;TZID=America/Chicago:20290717T113000
DTSTAMP:20260423T073517
CREATED:20250206T142607Z
LAST-MODIFIED:20250206T142607Z
UID:10000295-1878975000-1878982200@playhouse.csmdemo.com
SUMMARY:Members-Only Open Art Studio
DESCRIPTION:Come create art with us! \nJoin us each week to explore how illustrators bring imagination to life through various artistic processes. Each month features a different theme. \nThis program has been made possible by a grant from the Community Foundation of Central Illinois and is partially supported by a grant from the Illinois Arts Council Agency.
URL:https://playhouse.csmdemo.com/event/members-only-open-art-studio/2029-07-17/
CATEGORIES:Drop in Program,Fun For All Ages,Member's Only
ATTACH;FMTTYPE=image/png:https://playhouse.csmdemo.com/wp-content/uploads/Members-Only-Open-Art-Studio-Square-Design-768x765-1.png
END:VEVENT
BEGIN:VEVENT
DTSTART;TZID=America/Chicago:20290724T093000
DTEND;TZID=America/Chicago:20290724T113000
DTSTAMP:20260423T073517
CREATED:20250206T142607Z
LAST-MODIFIED:20250206T142607Z
UID:10000296-1879579800-1879587000@playhouse.csmdemo.com
SUMMARY:Members-Only Open Art Studio
DESCRIPTION:Come create art with us! \nJoin us each week to explore how illustrators bring imagination to life through various artistic processes. Each month features a different theme. \nThis program has been made possible by a grant from the Community Foundation of Central Illinois and is partially supported by a grant from the Illinois Arts Council Agency.
URL:https://playhouse.csmdemo.com/event/members-only-open-art-studio/2029-07-24/
CATEGORIES:Drop in Program,Fun For All Ages,Member's Only
ATTACH;FMTTYPE=image/png:https://playhouse.csmdemo.com/wp-content/uploads/Members-Only-Open-Art-Studio-Square-Design-768x765-1.png
END:VEVENT
BEGIN:VEVENT
DTSTART;TZID=America/Chicago:20290731T093000
DTEND;TZID=America/Chicago:20290731T113000
DTSTAMP:20260423T073517
CREATED:20250206T142607Z
LAST-MODIFIED:20250206T142607Z
UID:10000297-1880184600-1880191800@playhouse.csmdemo.com
SUMMARY:Members-Only Open Art Studio
DESCRIPTION:Come create art with us! \nJoin us each week to explore how illustrators bring imagination to life through various artistic processes. Each month features a different theme. \nThis program has been made possible by a grant from the Community Foundation of Central Illinois and is partially supported by a grant from the Illinois Arts Council Agency.
URL:https://playhouse.csmdemo.com/event/members-only-open-art-studio/2029-07-31/
CATEGORIES:Drop in Program,Fun For All Ages,Member's Only
ATTACH;FMTTYPE=image/png:https://playhouse.csmdemo.com/wp-content/uploads/Members-Only-Open-Art-Studio-Square-Design-768x765-1.png
END:VEVENT
BEGIN:VEVENT
DTSTART;TZID=America/Chicago:20290807T093000
DTEND;TZID=America/Chicago:20290807T113000
DTSTAMP:20260423T073517
CREATED:20250206T142607Z
LAST-MODIFIED:20250206T142607Z
UID:10000298-1880789400-1880796600@playhouse.csmdemo.com
SUMMARY:Members-Only Open Art Studio
DESCRIPTION:Come create art with us! \nJoin us each week to explore how illustrators bring imagination to life through various artistic processes. Each month features a different theme. \nThis program has been made possible by a grant from the Community Foundation of Central Illinois and is partially supported by a grant from the Illinois Arts Council Agency.
URL:https://playhouse.csmdemo.com/event/members-only-open-art-studio/2029-08-07/
CATEGORIES:Drop in Program,Fun For All Ages,Member's Only
ATTACH;FMTTYPE=image/png:https://playhouse.csmdemo.com/wp-content/uploads/Members-Only-Open-Art-Studio-Square-Design-768x765-1.png
END:VEVENT
BEGIN:VEVENT
DTSTART;TZID=America/Chicago:20290814T093000
DTEND;TZID=America/Chicago:20290814T113000
DTSTAMP:20260423T073517
CREATED:20250206T142607Z
LAST-MODIFIED:20250206T142607Z
UID:10000299-1881394200-1881401400@playhouse.csmdemo.com
SUMMARY:Members-Only Open Art Studio
DESCRIPTION:Come create art with us! \nJoin us each week to explore how illustrators bring imagination to life through various artistic processes. Each month features a different theme. \nThis program has been made possible by a grant from the Community Foundation of Central Illinois and is partially supported by a grant from the Illinois Arts Council Agency.
URL:https://playhouse.csmdemo.com/event/members-only-open-art-studio/2029-08-14/
CATEGORIES:Drop in Program,Fun For All Ages,Member's Only
ATTACH;FMTTYPE=image/png:https://playhouse.csmdemo.com/wp-content/uploads/Members-Only-Open-Art-Studio-Square-Design-768x765-1.png
END:VEVENT
BEGIN:VEVENT
DTSTART;TZID=America/Chicago:20290821T093000
DTEND;TZID=America/Chicago:20290821T113000
DTSTAMP:20260423T073517
CREATED:20250206T142607Z
LAST-MODIFIED:20250206T142607Z
UID:10000300-1881999000-1882006200@playhouse.csmdemo.com
SUMMARY:Members-Only Open Art Studio
DESCRIPTION:Come create art with us! \nJoin us each week to explore how illustrators bring imagination to life through various artistic processes. Each month features a different theme. \nThis program has been made possible by a grant from the Community Foundation of Central Illinois and is partially supported by a grant from the Illinois Arts Council Agency.
URL:https://playhouse.csmdemo.com/event/members-only-open-art-studio/2029-08-21/
CATEGORIES:Drop in Program,Fun For All Ages,Member's Only
ATTACH;FMTTYPE=image/png:https://playhouse.csmdemo.com/wp-content/uploads/Members-Only-Open-Art-Studio-Square-Design-768x765-1.png
END:VEVENT
BEGIN:VEVENT
DTSTART;TZID=America/Chicago:20290828T093000
DTEND;TZID=America/Chicago:20290828T113000
DTSTAMP:20260423T073517
CREATED:20250206T142607Z
LAST-MODIFIED:20250206T142607Z
UID:10000301-1882603800-1882611000@playhouse.csmdemo.com
SUMMARY:Members-Only Open Art Studio
DESCRIPTION:Come create art with us! \nJoin us each week to explore how illustrators bring imagination to life through various artistic processes. Each month features a different theme. \nThis program has been made possible by a grant from the Community Foundation of Central Illinois and is partially supported by a grant from the Illinois Arts Council Agency.
URL:https://playhouse.csmdemo.com/event/members-only-open-art-studio/2029-08-28/
CATEGORIES:Drop in Program,Fun For All Ages,Member's Only
ATTACH;FMTTYPE=image/png:https://playhouse.csmdemo.com/wp-content/uploads/Members-Only-Open-Art-Studio-Square-Design-768x765-1.png
END:VEVENT
BEGIN:VEVENT
DTSTART;TZID=America/Chicago:20290904T093000
DTEND;TZID=America/Chicago:20290904T113000
DTSTAMP:20260423T073517
CREATED:20250206T142607Z
LAST-MODIFIED:20250206T142607Z
UID:10000302-1883208600-1883215800@playhouse.csmdemo.com
SUMMARY:Members-Only Open Art Studio
DESCRIPTION:Come create art with us! \nJoin us each week to explore how illustrators bring imagination to life through various artistic processes. Each month features a different theme. \nThis program has been made possible by a grant from the Community Foundation of Central Illinois and is partially supported by a grant from the Illinois Arts Council Agency.
URL:https://playhouse.csmdemo.com/event/members-only-open-art-studio/2029-09-04/
CATEGORIES:Drop in Program,Fun For All Ages,Member's Only
ATTACH;FMTTYPE=image/png:https://playhouse.csmdemo.com/wp-content/uploads/Members-Only-Open-Art-Studio-Square-Design-768x765-1.png
END:VEVENT
BEGIN:VEVENT
DTSTART;TZID=America/Chicago:20290911T093000
DTEND;TZID=America/Chicago:20290911T113000
DTSTAMP:20260423T073517
CREATED:20250206T142607Z
LAST-MODIFIED:20250206T142607Z
UID:10000303-1883813400-1883820600@playhouse.csmdemo.com
SUMMARY:Members-Only Open Art Studio
DESCRIPTION:Come create art with us! \nJoin us each week to explore how illustrators bring imagination to life through various artistic processes. Each month features a different theme. \nThis program has been made possible by a grant from the Community Foundation of Central Illinois and is partially supported by a grant from the Illinois Arts Council Agency.
URL:https://playhouse.csmdemo.com/event/members-only-open-art-studio/2029-09-11/
CATEGORIES:Drop in Program,Fun For All Ages,Member's Only
ATTACH;FMTTYPE=image/png:https://playhouse.csmdemo.com/wp-content/uploads/Members-Only-Open-Art-Studio-Square-Design-768x765-1.png
END:VEVENT
BEGIN:VEVENT
DTSTART;TZID=America/Chicago:20290918T093000
DTEND;TZID=America/Chicago:20290918T113000
DTSTAMP:20260423T073517
CREATED:20250206T142607Z
LAST-MODIFIED:20250206T142607Z
UID:10000304-1884418200-1884425400@playhouse.csmdemo.com
SUMMARY:Members-Only Open Art Studio
DESCRIPTION:Come create art with us! \nJoin us each week to explore how illustrators bring imagination to life through various artistic processes. Each month features a different theme. \nThis program has been made possible by a grant from the Community Foundation of Central Illinois and is partially supported by a grant from the Illinois Arts Council Agency.
URL:https://playhouse.csmdemo.com/event/members-only-open-art-studio/2029-09-18/
CATEGORIES:Drop in Program,Fun For All Ages,Member's Only
ATTACH;FMTTYPE=image/png:https://playhouse.csmdemo.com/wp-content/uploads/Members-Only-Open-Art-Studio-Square-Design-768x765-1.png
END:VEVENT
BEGIN:VEVENT
DTSTART;TZID=America/Chicago:20290925T093000
DTEND;TZID=America/Chicago:20290925T113000
DTSTAMP:20260423T073517
CREATED:20250206T142607Z
LAST-MODIFIED:20250206T142607Z
UID:10000305-1885023000-1885030200@playhouse.csmdemo.com
SUMMARY:Members-Only Open Art Studio
DESCRIPTION:Come create art with us! \nJoin us each week to explore how illustrators bring imagination to life through various artistic processes. Each month features a different theme. \nThis program has been made possible by a grant from the Community Foundation of Central Illinois and is partially supported by a grant from the Illinois Arts Council Agency.
URL:https://playhouse.csmdemo.com/event/members-only-open-art-studio/2029-09-25/
CATEGORIES:Drop in Program,Fun For All Ages,Member's Only
ATTACH;FMTTYPE=image/png:https://playhouse.csmdemo.com/wp-content/uploads/Members-Only-Open-Art-Studio-Square-Design-768x765-1.png
END:VEVENT
BEGIN:VEVENT
DTSTART;TZID=America/Chicago:20291002T093000
DTEND;TZID=America/Chicago:20291002T113000
DTSTAMP:20260423T073517
CREATED:20250206T142607Z
LAST-MODIFIED:20250206T142607Z
UID:10000306-1885627800-1885635000@playhouse.csmdemo.com
SUMMARY:Members-Only Open Art Studio
DESCRIPTION:Come create art with us! \nJoin us each week to explore how illustrators bring imagination to life through various artistic processes. Each month features a different theme. \nThis program has been made possible by a grant from the Community Foundation of Central Illinois and is partially supported by a grant from the Illinois Arts Council Agency.
URL:https://playhouse.csmdemo.com/event/members-only-open-art-studio/2029-10-02/
CATEGORIES:Drop in Program,Fun For All Ages,Member's Only
ATTACH;FMTTYPE=image/png:https://playhouse.csmdemo.com/wp-content/uploads/Members-Only-Open-Art-Studio-Square-Design-768x765-1.png
END:VEVENT
BEGIN:VEVENT
DTSTART;TZID=America/Chicago:20291009T093000
DTEND;TZID=America/Chicago:20291009T113000
DTSTAMP:20260423T073517
CREATED:20250206T142607Z
LAST-MODIFIED:20250206T142607Z
UID:10000307-1886232600-1886239800@playhouse.csmdemo.com
SUMMARY:Members-Only Open Art Studio
DESCRIPTION:Come create art with us! \nJoin us each week to explore how illustrators bring imagination to life through various artistic processes. Each month features a different theme. \nThis program has been made possible by a grant from the Community Foundation of Central Illinois and is partially supported by a grant from the Illinois Arts Council Agency.
URL:https://playhouse.csmdemo.com/event/members-only-open-art-studio/2029-10-09/
CATEGORIES:Drop in Program,Fun For All Ages,Member's Only
ATTACH;FMTTYPE=image/png:https://playhouse.csmdemo.com/wp-content/uploads/Members-Only-Open-Art-Studio-Square-Design-768x765-1.png
END:VEVENT
BEGIN:VEVENT
DTSTART;TZID=America/Chicago:20291016T093000
DTEND;TZID=America/Chicago:20291016T113000
DTSTAMP:20260423T073517
CREATED:20250206T142607Z
LAST-MODIFIED:20250206T142607Z
UID:10000308-1886837400-1886844600@playhouse.csmdemo.com
SUMMARY:Members-Only Open Art Studio
DESCRIPTION:Come create art with us! \nJoin us each week to explore how illustrators bring imagination to life through various artistic processes. Each month features a different theme. \nThis program has been made possible by a grant from the Community Foundation of Central Illinois and is partially supported by a grant from the Illinois Arts Council Agency.
URL:https://playhouse.csmdemo.com/event/members-only-open-art-studio/2029-10-16/
CATEGORIES:Drop in Program,Fun For All Ages,Member's Only
ATTACH;FMTTYPE=image/png:https://playhouse.csmdemo.com/wp-content/uploads/Members-Only-Open-Art-Studio-Square-Design-768x765-1.png
END:VEVENT
END:VCALENDAR